BEGIN:VCALENDAR
VERSION:2.0
PRODID:-//Hidden Pines Ranch - ECPv6.15.20//NONSGML v1.0//EN
CALSCALE:GREGORIAN
METHOD:PUBLISH
X-WR-CALNAME:Hidden Pines Ranch
X-ORIGINAL-URL:https://hiddenpinesranch.com
X-WR-CALDESC:Events for Hidden Pines Ranch
REFRESH-INTERVAL;VALUE=DURATION:PT1H
X-Robots-Tag:noindex
X-PUBLISHED-TTL:PT1H
BEGIN:VTIMEZONE
TZID:UTC
BEGIN:STANDARD
TZOFFSETFROM:+0000
TZOFFSETTO:+0000
TZNAME:UTC
DTSTART:20170101T000000
END:STANDARD
END:VTIMEZONE
BEGIN:VEVENT
DTSTART;VALUE=DATE:20220722
DTEND;VALUE=DATE:20220723
DTSTAMP:20260425T012248
CREATED:20220601T204814Z
LAST-MODIFIED:20220601T204814Z
UID:5408-1658448000-1658534399@hiddenpinesranch.com
SUMMARY:Week 6 Friday Theme: Holi-day
DESCRIPTION:Halloween & St. Patty’s & Valentine’s\, oh my! Represent your favorite holiday at HPR!
URL:https://hiddenpinesranch.com/event/week-6-friday-theme-holi-day/
END:VEVENT
BEGIN:VEVENT
DTSTART;VALUE=DATE:20220715
DTEND;VALUE=DATE:20220716
DTSTAMP:20260425T012248
CREATED:20220601T204248Z
LAST-MODIFIED:20220601T204650Z
UID:5406-1657843200-1657929599@hiddenpinesranch.com
SUMMARY:Week 5 Friday Theme: HPR Rodeo
DESCRIPTION:YEEHAW\, campers! Grab your cowboy hats\, your boots\, and your lassos to put the “west” in midwest!
URL:https://hiddenpinesranch.com/event/week-5-friday-theme-hpr-rodeo/
END:VEVENT
BEGIN:VEVENT
DTSTART;VALUE=DATE:20220708
DTEND;VALUE=DATE:20220709
DTSTAMP:20260425T012248
CREATED:20220601T204014Z
LAST-MODIFIED:20220601T204206Z
UID:5404-1657238400-1657324799@hiddenpinesranch.com
SUMMARY:Week 4 Friday Theme: HPR Renaissance Fair
DESCRIPTION:Hear ye\, hear ye! ‘Tis time to don thine medieval attire – whether thou art a queen or jester!
URL:https://hiddenpinesranch.com/event/week-4-friday-theme-hpr-renaissance-fair/
END:VEVENT
BEGIN:VEVENT
DTSTART;VALUE=DATE:20220701
DTEND;VALUE=DATE:20220702
DTSTAMP:20260425T012248
CREATED:20220601T203838Z
LAST-MODIFIED:20220601T203912Z
UID:5401-1656633600-1656719999@hiddenpinesranch.com
SUMMARY:Week 3 Friday Theme: Party in the USA
DESCRIPTION:Whether you wear red\, white\, and blue\, or George Washington’s hairdo\, get ready for the fourth with this theme\, session 2!
URL:https://hiddenpinesranch.com/event/week-3-friday-theme-party-in-the-usa/
END:VEVENT
BEGIN:VEVENT
DTSTART;VALUE=DATE:20220624
DTEND;VALUE=DATE:20220625
DTSTAMP:20260425T012248
CREATED:20220601T203713Z
LAST-MODIFIED:20220601T203713Z
UID:5399-1656028800-1656115199@hiddenpinesranch.com
SUMMARY:Week 2 Friday Theme: Heroes vs. Villains
DESCRIPTION:It’s an epic battle of good and evil\, light and dark – get your capes ready!
URL:https://hiddenpinesranch.com/event/week-2-friday-theme-heroes-vs-villains/
END:VEVENT
BEGIN:VEVENT
DTSTART;VALUE=DATE:20220617
DTEND;VALUE=DATE:20220618
DTSTAMP:20260425T012248
CREATED:20220601T203600Z
LAST-MODIFIED:20220601T203600Z
UID:5397-1655424000-1655510399@hiddenpinesranch.com
SUMMARY:Week 1 Friday Theme: Out of This World!
DESCRIPTION:Blast off! It’s time for a gravity-defying\, world-warping\, space-tacular adventure!
URL:https://hiddenpinesranch.com/event/week-1-friday-theme-out-of-this-world/
END:VEVENT
BEGIN:VEVENT
DTSTART;VALUE=DATE:20220610
DTEND;VALUE=DATE:20220611
DTSTAMP:20260425T012248
CREATED:20220601T203246Z
LAST-MODIFIED:20220601T203340Z
UID:5394-1654819200-1654905599@hiddenpinesranch.com
SUMMARY:Mini Camp Friday Theme: H-P-ARRRRR! (Pirate Day)
DESCRIPTION:Ahoy\, campers! Bust out your best pirate attire – or walk the plank!
URL:https://hiddenpinesranch.com/event/friday-theme-h-p-arrrrr-pirate-day/
END:VEVENT
BEGIN:VEVENT
DTSTART;TZID=UTC:20220604T100000
DTEND;TZID=UTC:20220604T120000
DTSTAMP:20260425T012248
CREATED:20220411T182727Z
LAST-MODIFIED:20220509T121055Z
UID:5294-1654336800-1654344000@hiddenpinesranch.com
SUMMARY:Open House for 2022 Campers & Families
DESCRIPTION:
URL:https://hiddenpinesranch.com/event/open-house-for-2022-campers-families/
END:VEVENT
BEGIN:VEVENT
DTSTART;VALUE=DATE:20200205
DTEND;VALUE=DATE:20200206
DTSTAMP:20260425T012248
CREATED:20171228T235544Z
LAST-MODIFIED:20200128T185035Z
UID:2139-1580860800-1580947199@hiddenpinesranch.com
SUMMARY:New Campers & Unregistered Returning Families Registration
DESCRIPTION:Registration will open for new camper families and unregistered returning families on Monday\, February 5th at 7am.  Families will be able to access the registration system by clicking on the “Registration” tab on the top right corner of the website. 
URL:https://hiddenpinesranch.com/event/unregistered-new-campers-returning-families-registration/
END:VEVENT
BEGIN:VEVENT
DTSTART;VALUE=DATE:20200203
DTEND;VALUE=DATE:20200204
DTSTAMP:20260425T012248
CREATED:20171228T235356Z
LAST-MODIFIED:20200128T185246Z
UID:2136-1580688000-1580774399@hiddenpinesranch.com
SUMMARY:Returning Mini Camp Camper Registration
DESCRIPTION:Registration will open for campers that attended our Mini Camp in 2019 on Monday\, February 3rd at 7am.  Returning Mini Camp families will receive an email from Hidden Pines Ranch with registration instructions.
URL:https://hiddenpinesranch.com/event/returning-mini-camp-camper-registration/
END:VEVENT
BEGIN:VEVENT
DTSTART;VALUE=DATE:20200130
DTEND;VALUE=DATE:20200131
DTSTAMP:20260425T012248
CREATED:20171228T235007Z
LAST-MODIFIED:20200128T185412Z
UID:2131-1580342400-1580428799@hiddenpinesranch.com
SUMMARY:Returning 2019 2\,4 & 8 Week Session Campers Registration
DESCRIPTION:Registration will open for campers that attended our 2\,4 or 8 week sessions in 2019 on Thursday\, January 30th at 7am.  
URL:https://hiddenpinesranch.com/event/returning-8-week-session-campers-registration/
END:VEVENT
BEGIN:VEVENT
DTSTART;VALUE=DATE:20190805
DTEND;VALUE=DATE:20190813
DTSTAMP:20260425T012248
CREATED:20190319T161614Z
LAST-MODIFIED:20190319T161614Z
UID:2757-1564963200-1565654399@hiddenpinesranch.com
SUMMARY:Extension Week
DESCRIPTION:Monday\, August 5th – Friday\, August 9th  \nExtension Week at HPR
URL:https://hiddenpinesranch.com/event/extension-week-2/
END:VEVENT
BEGIN:VEVENT
DTSTART;VALUE=DATE:20190802
DTEND;VALUE=DATE:20190803
DTSTAMP:20260425T012248
CREATED:20190319T161414Z
LAST-MODIFIED:20190319T161414Z
UID:2755-1564704000-1564790399@hiddenpinesranch.com
SUMMARY:Last Day of Camp- Standard Session
DESCRIPTION:Friday\, August 2nd  \nLast Day of Standard Summer Session
URL:https://hiddenpinesranch.com/event/last-day-of-camp-standard-session/
END:VEVENT
BEGIN:VEVENT
DTSTART;VALUE=DATE:20190801
DTEND;VALUE=DATE:20190802
DTSTAMP:20260425T012248
CREATED:20190319T160924Z
LAST-MODIFIED:20190319T160924Z
UID:2753-1564617600-1564703999@hiddenpinesranch.com
SUMMARY:HPR Play Production
DESCRIPTION:Thursday\, August 1st  \nHidden Pines Ranch Play Production \nTime to be determined
URL:https://hiddenpinesranch.com/event/hpr-play-production/
END:VEVENT
BEGIN:VEVENT
DTSTART;VALUE=DATE:20190730
DTEND;VALUE=DATE:20190801
DTSTAMP:20260425T012248
CREATED:20190319T160700Z
LAST-MODIFIED:20190319T160721Z
UID:2751-1564444800-1564617599@hiddenpinesranch.com
SUMMARY:HPR Horse Show
DESCRIPTION:Tuesday\, July 30th & Wednesday\, July 31st \nTraditional Campers will preform in the morning \nCiqala Campers will preform in the afternoon
URL:https://hiddenpinesranch.com/event/hpr-horse-show/
END:VEVENT
BEGIN:VEVENT
DTSTART;VALUE=DATE:20190729
DTEND;VALUE=DATE:20190730
DTSTAMP:20260425T012248
CREATED:20190319T160504Z
LAST-MODIFIED:20190319T160504Z
UID:2749-1564358400-1564444799@hiddenpinesranch.com
SUMMARY:L.I.T. Overnight #2 at HPR
DESCRIPTION:Monday\, July 29th  \nL.I.T. Overnight #2 at HPR
URL:https://hiddenpinesranch.com/event/l-i-t-overnight-2-at-hpr/
END:VEVENT
BEGIN:VEVENT
DTSTART;VALUE=DATE:20190725
DTEND;VALUE=DATE:20190726
DTSTAMP:20260425T012248
CREATED:20190319T160313Z
LAST-MODIFIED:20190319T160350Z
UID:2746-1564012800-1564099199@hiddenpinesranch.com
SUMMARY:Traditional Overnight #2: 4th & 5th grade at HPR
DESCRIPTION:Thursday\, July 25th \nTraditional Overnight #2 for 4th & 5th graders at Hidden Pines Ranch
URL:https://hiddenpinesranch.com/event/traditional-overnight-2-4th-5th-grade-at-hpr/
END:VEVENT
BEGIN:VEVENT
DTSTART;VALUE=DATE:20190725
DTEND;VALUE=DATE:20190726
DTSTAMP:20260425T012248
CREATED:20190319T160106Z
LAST-MODIFIED:20190319T160106Z
UID:2744-1564012800-1564099199@hiddenpinesranch.com
SUMMARY:Bridge Overnight #2 at Lake Elmo Park Reserve
DESCRIPTION:Thursday\, July 25th  \nBridge (6th grade) Overnight #2 at Lake Elmo Park Reserve
URL:https://hiddenpinesranch.com/event/bridge-overnight-2-at-lake-elmo-park-reserve/
END:VEVENT
BEGIN:VEVENT
DTSTART;VALUE=DATE:20190717
DTEND;VALUE=DATE:20190720
DTSTAMP:20260425T012248
CREATED:20190319T155906Z
LAST-MODIFIED:20190319T155906Z
UID:2742-1563321600-1563580799@hiddenpinesranch.com
SUMMARY:Middle School Overnight #2: Canoe Trip and William O'Brien State Park
DESCRIPTION:Wednesday\, July 17th – Friday\, July 20th \nMiddle School Canoe Trip and Overnight #2 at William O’Brien State Park 
URL:https://hiddenpinesranch.com/event/middle-school-overnight-2-canoe-trip-and-william-obrien-state-park/
END:VEVENT
BEGIN:VEVENT
DTSTART;VALUE=DATE:20190708
DTEND;VALUE=DATE:20190709
DTSTAMP:20260425T012248
CREATED:20190319T155617Z
LAST-MODIFIED:20190319T155617Z
UID:2740-1562544000-1562630399@hiddenpinesranch.com
SUMMARY:July 8 - First Day for Campers enrolled in Sessions 5 & 7
DESCRIPTION:Monday\, July 8 – First Day for campers enrolled in Sessions 5  and 7 (including “a” sessions)
URL:https://hiddenpinesranch.com/event/july-8-first-day-for-campers-enrolled-in-sessions-5-7/
END:VEVENT
BEGIN:VEVENT
DTSTART;VALUE=DATE:20190704
DTEND;VALUE=DATE:20190706
DTSTAMP:20260425T012248
CREATED:20190319T155356Z
LAST-MODIFIED:20190319T155356Z
UID:2738-1562198400-1562371199@hiddenpinesranch.com
SUMMARY:HPR CLOSED: July 4th & 5th
DESCRIPTION:HPR will be closed Thursday\, July 4th and Friday\, July 5th.  \nHappy 4th of July!
URL:https://hiddenpinesranch.com/event/hpr-closed-july-4th-5th/
END:VEVENT
BEGIN:VEVENT
DTSTART;VALUE=DATE:20190627
DTEND;VALUE=DATE:20190628
DTSTAMP:20260425T012248
CREATED:20190319T154013Z
LAST-MODIFIED:20190319T154937Z
UID:2735-1561593600-1561679999@hiddenpinesranch.com
SUMMARY:Traditional Overnight #1 (4th & 5th grade) at HPR
DESCRIPTION:Thursday\, June 27th  \nTraditional Overnight #1 for 4th and 5th grade campers at HPR
URL:https://hiddenpinesranch.com/event/traditional-overnight-1-4th-5th-grade-at-hpr/
END:VEVENT
BEGIN:VEVENT
DTSTART;VALUE=DATE:20190626
DTEND;VALUE=DATE:20190627
DTSTAMP:20260425T012248
CREATED:20190319T153657Z
LAST-MODIFIED:20190319T153710Z
UID:2732-1561507200-1561593599@hiddenpinesranch.com
SUMMARY:Bridge Overnight #1 at HPR
DESCRIPTION:Wednesday\, June 26th  \nBridge (6th grade) Overnight #1 at Hidden Pines Ranch
URL:https://hiddenpinesranch.com/event/bridge-overnight-1-at-hpr/
END:VEVENT
BEGIN:VEVENT
DTSTART;VALUE=DATE:20190619
DTEND;VALUE=DATE:20190622
DTSTAMP:20260425T012248
CREATED:20190319T153347Z
LAST-MODIFIED:20190319T153347Z
UID:2730-1560902400-1561161599@hiddenpinesranch.com
SUMMARY:Middle School Overnight #1 at Interstate Park
DESCRIPTION:Wednesday\, June 19th – Friday\, June 21st  \nMiddle School Overnight at Interstate Park
URL:https://hiddenpinesranch.com/event/middle-school-overnight-1-at-interstate-park/
END:VEVENT
BEGIN:VEVENT
DTSTART;VALUE=DATE:20190612
DTEND;VALUE=DATE:20190615
DTSTAMP:20260425T012248
CREATED:20190319T152629Z
LAST-MODIFIED:20190319T152654Z
UID:2726-1560297600-1560556799@hiddenpinesranch.com
SUMMARY:L.I.T. Overnight #1 at Interstate Park
DESCRIPTION:Wednesday\, June 12 – Friday\, June 14th: L.I.T. Overnight #1 at Interstate Park
URL:https://hiddenpinesranch.com/event/l-i-t-overnight-1-at-interstate-park/
END:VEVENT
BEGIN:VEVENT
DTSTART;VALUE=DATE:20190611
DTEND;VALUE=DATE:20190612
DTSTAMP:20260425T012248
CREATED:20190319T152004Z
LAST-MODIFIED:20190319T152227Z
UID:2719-1560211200-1560297599@hiddenpinesranch.com
SUMMARY:June 11- First Day for Campers enrolled in Session 3
DESCRIPTION:Tuesday\, July 11th: First Day of Camp \nCampers enrolled in Session 3 (including “a” sessions)
URL:https://hiddenpinesranch.com/event/first-day-for-campers-enrolled-in-sessions-1246/
END:VEVENT
BEGIN:VEVENT
DTSTART;VALUE=DATE:20190610
DTEND;VALUE=DATE:20190611
DTSTAMP:20260425T012248
CREATED:20190319T152428Z
LAST-MODIFIED:20190319T152428Z
UID:2724-1560124800-1560211199@hiddenpinesranch.com
SUMMARY:June 10- First Day of Camp for campers enrolled in Sessions 1\,2\,4\,6
DESCRIPTION:Monday\, June 10th -First Day of camp \nCampers enrolled in Sessions 1\,2\,4\,6 (including “a” sessions)
URL:https://hiddenpinesranch.com/event/june-10-first-day-of-camp-for-campers-enrolled-in-sessions-1246/
END:VEVENT
BEGIN:VEVENT
DTSTART;VALUE=DATE:20190605
DTEND;VALUE=DATE:20190608
DTSTAMP:20260425T012248
CREATED:20190319T151524Z
LAST-MODIFIED:20190319T151524Z
UID:2717-1559692800-1559951999@hiddenpinesranch.com
SUMMARY:Mini Camp
DESCRIPTION:Mini Camp: June 5th – 7th 
URL:https://hiddenpinesranch.com/event/mini-camp-2/
END:VEVENT
BEGIN:VEVENT
DTSTART;VALUE=DATE:20190601
DTEND;VALUE=DATE:20190602
DTSTAMP:20260425T012248
CREATED:20190319T151307Z
LAST-MODIFIED:20190319T151307Z
UID:2714-1559347200-1559433599@hiddenpinesranch.com
SUMMARY:HPR Open House
DESCRIPTION:Saturday\, June 1\n12:00 pm – 3:00 pm
URL:https://hiddenpinesranch.com/event/hpr-open-house/
END:VEVENT
BEGIN:VEVENT
DTSTART;VALUE=DATE:20180806
DTEND;VALUE=DATE:20180811
DTSTAMP:20260425T012248
CREATED:20180504T201959Z
LAST-MODIFIED:20180504T201959Z
UID:2506-1533513600-1533945599@hiddenpinesranch.com
SUMMARY:Extension Week
DESCRIPTION:
URL:https://hiddenpinesranch.com/event/extension-week/
END:VEVENT
END:VCALENDAR