BEGIN:VCALENDAR
VERSION:2.0
PRODID:-//Hidden Pines Ranch - ECPv6.15.20//NONSGML v1.0//EN
CALSCALE:GREGORIAN
METHOD:PUBLISH
X-ORIGINAL-URL:https://hiddenpinesranch.com
X-WR-CALDESC:Events for Hidden Pines Ranch
REFRESH-INTERVAL;VALUE=DURATION:PT1H
X-Robots-Tag:noindex
X-PUBLISHED-TTL:PT1H
BEGIN:VTIMEZONE
TZID:UTC
BEGIN:STANDARD
TZOFFSETFROM:+0000
TZOFFSETTO:+0000
TZNAME:UTC
DTSTART:20190101T000000
END:STANDARD
END:VTIMEZONE
BEGIN:VEVENT
DTSTART;TZID=UTC:20230811T140000
DTEND;TZID=UTC:20230811T153000
DTSTAMP:20260424T221550
CREATED:20230407T173515Z
LAST-MODIFIED:20230407T173526Z
UID:5672-1691762400-1691767800@hiddenpinesranch.com
SUMMARY:HPR Play
DESCRIPTION:More information regarding the HPR play will be sent out during the summer to all participating camper families.
URL:https://hiddenpinesranch.com/event/hpr-play-2/
END:VEVENT
BEGIN:VEVENT
DTSTART;VALUE=DATE:20230811
DTEND;VALUE=DATE:20230812
DTSTAMP:20260424T221550
CREATED:20230407T160758Z
LAST-MODIFIED:20230407T160758Z
UID:5662-1691712000-1691798399@hiddenpinesranch.com
SUMMARY:Last Day of Camp
DESCRIPTION:
URL:https://hiddenpinesranch.com/event/last-day-of-camp/
END:VEVENT
BEGIN:VEVENT
DTSTART;TZID=UTC:20230808T091000
DTEND;TZID=UTC:20230808T121500
DTSTAMP:20260424T221550
CREATED:20230407T173000Z
LAST-MODIFIED:20230731T155315Z
UID:5668-1691485800-1691496900@hiddenpinesranch.com
SUMMARY:Camper Horse Show
DESCRIPTION:More information regarding the camper horse show will be sent out during Session 4 to all participating camper families.
URL:https://hiddenpinesranch.com/event/camper-horse-show-part-1/
END:VEVENT
BEGIN:VEVENT
DTSTART;VALUE=DATE:20230731
DTEND;VALUE=DATE:20230801
DTSTAMP:20260424T221550
CREATED:20230407T160727Z
LAST-MODIFIED:20230407T161117Z
UID:5660-1690761600-1690847999@hiddenpinesranch.com
SUMMARY:1st Day of Session 4
DESCRIPTION:
URL:https://hiddenpinesranch.com/event/1st-day-of-session-4/
END:VEVENT
BEGIN:VEVENT
DTSTART;VALUE=DATE:20230725
DTEND;VALUE=DATE:20230727
DTSTAMP:20260424T221550
CREATED:20230511T190755Z
LAST-MODIFIED:20230511T190829Z
UID:5687-1690243200-1690415999@hiddenpinesranch.com
SUMMARY:Meal Packing with Meals From The Heart
DESCRIPTION:After our Penny Wars fundraiser\, campers in Session 3 will get to pack meals at camp with Meals From The Heart – a business based in Stillwater that works to provide respectful meals to members of our community in need. More information regarding meal packing will be sent out later this summer to our Session 3 families. 
URL:https://hiddenpinesranch.com/event/meal-packing-with-meals-from-the-heart/
END:VEVENT
BEGIN:VEVENT
DTSTART;VALUE=DATE:20230717
DTEND;VALUE=DATE:20230726
DTSTAMP:20260424T221550
CREATED:20230511T190301Z
LAST-MODIFIED:20230511T190301Z
UID:5685-1689552000-1690329599@hiddenpinesranch.com
SUMMARY:Penny Wars Fundraiser
DESCRIPTION:During Week 5\, HPR holds our annual Penny Wars Fundraiser! More information regarding Penny Wars will be sent out later this summer to our Session 3 families. All funds raised will be put towards our Meal Packing event in Week 6. 
URL:https://hiddenpinesranch.com/event/penny-wars-fundraiser/
END:VEVENT
BEGIN:VEVENT
DTSTART;VALUE=DATE:20230717
DTEND;VALUE=DATE:20230718
DTSTAMP:20260424T221550
CREATED:20230407T160641Z
LAST-MODIFIED:20230407T161055Z
UID:5658-1689552000-1689638399@hiddenpinesranch.com
SUMMARY:1st Day of Session 3
DESCRIPTION:
URL:https://hiddenpinesranch.com/event/1st-day-of-session-3/
END:VEVENT
BEGIN:VEVENT
DTSTART;TZID=UTC:20230714T140000
DTEND;TZID=UTC:20230714T153000
DTSTAMP:20260424T221550
CREATED:20230407T172635Z
LAST-MODIFIED:20230407T173601Z
UID:5666-1689343200-1689348600@hiddenpinesranch.com
SUMMARY:Camper Talent Show
DESCRIPTION:More information regarding the camper talent show will be sent out during Session 2 to all participating camper families.
URL:https://hiddenpinesranch.com/event/camper-talent-show/
END:VEVENT
BEGIN:VEVENT
DTSTART;VALUE=DATE:20230710
DTEND;VALUE=DATE:20230714
DTSTAMP:20260424T221550
CREATED:20230511T191426Z
LAST-MODIFIED:20230511T191426Z
UID:5689-1688947200-1689292799@hiddenpinesranch.com
SUMMARY:Wild Rivers Conservancy @ HPR
DESCRIPTION:During Week 4\, our K/1 and Traditional Campers will get the chance to do some pond studies at HPR with Wild Rivers Conservancy – a local nonprofit organization that works to protect & restore the St. Croix and Namekogan Riverway\, as well as provide education on aquatic ecosystems to local youth! More information on this will be sent out later this summer to our Session 2 families. 
URL:https://hiddenpinesranch.com/event/wild-rivers-conservancy-hpr/
END:VEVENT
BEGIN:VEVENT
DTSTART;VALUE=DATE:20230705
DTEND;VALUE=DATE:20230706
DTSTAMP:20260424T221550
CREATED:20230407T160613Z
LAST-MODIFIED:20230407T160613Z
UID:5656-1688515200-1688601599@hiddenpinesranch.com
SUMMARY:1st Day of Session 2
DESCRIPTION:
URL:https://hiddenpinesranch.com/event/1st-day-of-session-2/
END:VEVENT
BEGIN:VEVENT
DTSTART;VALUE=DATE:20230703
DTEND;VALUE=DATE:20230705
DTSTAMP:20260424T221550
CREATED:20230407T160235Z
LAST-MODIFIED:20230407T161019Z
UID:5650-1688342400-1688515199@hiddenpinesranch.com
SUMMARY:Camp is closed for 4th of July
DESCRIPTION:
URL:https://hiddenpinesranch.com/event/camp-is-closed-for-4th-of-july/
END:VEVENT
BEGIN:VEVENT
DTSTART;VALUE=DATE:20230619
DTEND;VALUE=DATE:20230620
DTSTAMP:20260424T221550
CREATED:20230407T160542Z
LAST-MODIFIED:20230407T160542Z
UID:5654-1687132800-1687219199@hiddenpinesranch.com
SUMMARY:1st Day of Session 1
DESCRIPTION:
URL:https://hiddenpinesranch.com/event/1st-day-of-session-1/
END:VEVENT
BEGIN:VEVENT
DTSTART;VALUE=DATE:20230613
DTEND;VALUE=DATE:20230614
DTSTAMP:20260424T221550
CREATED:20230407T160514Z
LAST-MODIFIED:20230407T160514Z
UID:5652-1686614400-1686700799@hiddenpinesranch.com
SUMMARY:1st Day of Mini Camp
DESCRIPTION:
URL:https://hiddenpinesranch.com/event/1st-day-of-mini-camp/
END:VEVENT
BEGIN:VEVENT
DTSTART;TZID=UTC:20230610T100000
DTEND;TZID=UTC:20230610T120000
DTSTAMP:20260424T221550
CREATED:20230407T160120Z
LAST-MODIFIED:20230407T160120Z
UID:5648-1686391200-1686398400@hiddenpinesranch.com
SUMMARY:2023 Camper Family Open House
DESCRIPTION:2023 camper families are invited to our annual open house prior to the start of camp!  Campers can meet their counselor\, take a tour of camp\, and pick up their camp t-shirt. Families will receive a link to sign up for a 30 minute time slot.
URL:https://hiddenpinesranch.com/event/2023-camper-family-open-house/
END:VEVENT
BEGIN:VEVENT
DTSTART;TZID=UTC:20230501T190000
DTEND;TZID=UTC:20230501T200000
DTSTAMP:20260424T221550
CREATED:20230407T155721Z
LAST-MODIFIED:20230410T202820Z
UID:5646-1682967600-1682971200@hiddenpinesranch.com
SUMMARY:New Parent/Guardian Orientation
DESCRIPTION:Our new parent/guardian orientation is scheduled for Monday\, May 1st at 7:00pm via Zoom.  Our Leadership Team will provide new families with information on our daily schedule\, program overview\, what to pack\, communications from camp\, drop off\, pickup and more.  We’ll also provide time for breakout rooms for each age group and time for questions.  Registration via Zoom is required to attend. Click here to sign-up.  Got Questions? Use this form to submit your questions prior to the event.
URL:https://hiddenpinesranch.com/event/new-parent-guardian-orientation/
END:VEVENT
BEGIN:VEVENT
DTSTART;TZID=UTC:20230130T080000
DTEND;TZID=UTC:20230130T080000
DTSTAMP:20260424T221550
CREATED:20221207T181327Z
LAST-MODIFIED:20221207T181327Z
UID:5502-1675065600-1675065600@hiddenpinesranch.com
SUMMARY:New Family Registration Opens
DESCRIPTION:2023 Registration for our new families will open at 8:00am on Monday\, January 30th! If you have any questions\, please call us at (651) 430-1282 or email us at info@hiddenpinesranch.com. 
URL:https://hiddenpinesranch.com/event/new-family-registration-opens/
END:VEVENT
BEGIN:VEVENT
DTSTART;TZID=UTC:20230126T080000
DTEND;TZID=UTC:20230126T080000
DTSTAMP:20260424T221550
CREATED:20221207T181157Z
LAST-MODIFIED:20221207T181224Z
UID:5500-1674720000-1674720000@hiddenpinesranch.com
SUMMARY:Mini Camp Family Registration Opens
DESCRIPTION:2023 Registration for our returning 2022 summer mini camp families will open at 8:00am on Thursday\, January 26th! All returning families will receive an email with further instructions one week prior to registration opening. If you have any questions\, please call us at (651) 430-1282 or email us at info@hiddenpinesranch.com. 
URL:https://hiddenpinesranch.com/event/mini-camp-family-registration-opens/
END:VEVENT
BEGIN:VEVENT
DTSTART;TZID=UTC:20230123T080000
DTEND;TZID=UTC:20230123T080000
DTSTAMP:20260424T221550
CREATED:20221207T181038Z
LAST-MODIFIED:20221207T181038Z
UID:5498-1674460800-1674460800@hiddenpinesranch.com
SUMMARY:2-8 Week Family Registration Opens
DESCRIPTION:2023 Registration for our returning 2022 summer 2-8 week families will open at 8:00am on Monday\, January 23rd! All returning families will receive an email with further instructions one week prior to registration opening. If you have any questions\, please call us at (651) 430-1282 or email us at info@hiddenpinesranch.com. 
URL:https://hiddenpinesranch.com/event/2-8-week-family-registration-opens/
END:VEVENT
BEGIN:VEVENT
DTSTART;VALUE=DATE:20220805
DTEND;VALUE=DATE:20220806
DTSTAMP:20260424T221550
CREATED:20220601T204942Z
LAST-MODIFIED:20220601T204942Z
UID:5412-1659657600-1659743999@hiddenpinesranch.com
SUMMARY:Week 8 Friday Theme: Circus - Under the Big Top
DESCRIPTION:Pack your bags and grab some peanuts\, because HPR is joining the circus for our final summer theme!
URL:https://hiddenpinesranch.com/event/week-8-friday-theme-circus-under-the-big-top/
END:VEVENT
BEGIN:VEVENT
DTSTART;VALUE=DATE:20220729
DTEND;VALUE=DATE:20220730
DTSTAMP:20260424T221550
CREATED:20220601T204859Z
LAST-MODIFIED:20220601T204859Z
UID:5410-1659052800-1659139199@hiddenpinesranch.com
SUMMARY:Week 7 Friday Theme: LIT Mystery Friday
DESCRIPTION:Will it be tropical day\, winter day\, or something brand new? Our LITs create and release a theme later on this summer for this special surprise!
URL:https://hiddenpinesranch.com/event/week-7-friday-theme-lit-mystery-friday/
END:VEVENT
BEGIN:VEVENT
DTSTART;VALUE=DATE:20220722
DTEND;VALUE=DATE:20220723
DTSTAMP:20260424T221550
CREATED:20220601T204814Z
LAST-MODIFIED:20220601T204814Z
UID:5408-1658448000-1658534399@hiddenpinesranch.com
SUMMARY:Week 6 Friday Theme: Holi-day
DESCRIPTION:Halloween & St. Patty’s & Valentine’s\, oh my! Represent your favorite holiday at HPR!
URL:https://hiddenpinesranch.com/event/week-6-friday-theme-holi-day/
END:VEVENT
BEGIN:VEVENT
DTSTART;VALUE=DATE:20220715
DTEND;VALUE=DATE:20220716
DTSTAMP:20260424T221550
CREATED:20220601T204248Z
LAST-MODIFIED:20220601T204650Z
UID:5406-1657843200-1657929599@hiddenpinesranch.com
SUMMARY:Week 5 Friday Theme: HPR Rodeo
DESCRIPTION:YEEHAW\, campers! Grab your cowboy hats\, your boots\, and your lassos to put the “west” in midwest!
URL:https://hiddenpinesranch.com/event/week-5-friday-theme-hpr-rodeo/
END:VEVENT
BEGIN:VEVENT
DTSTART;VALUE=DATE:20220708
DTEND;VALUE=DATE:20220709
DTSTAMP:20260424T221550
CREATED:20220601T204014Z
LAST-MODIFIED:20220601T204206Z
UID:5404-1657238400-1657324799@hiddenpinesranch.com
SUMMARY:Week 4 Friday Theme: HPR Renaissance Fair
DESCRIPTION:Hear ye\, hear ye! ‘Tis time to don thine medieval attire – whether thou art a queen or jester!
URL:https://hiddenpinesranch.com/event/week-4-friday-theme-hpr-renaissance-fair/
END:VEVENT
BEGIN:VEVENT
DTSTART;VALUE=DATE:20220701
DTEND;VALUE=DATE:20220702
DTSTAMP:20260424T221550
CREATED:20220601T203838Z
LAST-MODIFIED:20220601T203912Z
UID:5401-1656633600-1656719999@hiddenpinesranch.com
SUMMARY:Week 3 Friday Theme: Party in the USA
DESCRIPTION:Whether you wear red\, white\, and blue\, or George Washington’s hairdo\, get ready for the fourth with this theme\, session 2!
URL:https://hiddenpinesranch.com/event/week-3-friday-theme-party-in-the-usa/
END:VEVENT
BEGIN:VEVENT
DTSTART;VALUE=DATE:20220624
DTEND;VALUE=DATE:20220625
DTSTAMP:20260424T221550
CREATED:20220601T203713Z
LAST-MODIFIED:20220601T203713Z
UID:5399-1656028800-1656115199@hiddenpinesranch.com
SUMMARY:Week 2 Friday Theme: Heroes vs. Villains
DESCRIPTION:It’s an epic battle of good and evil\, light and dark – get your capes ready!
URL:https://hiddenpinesranch.com/event/week-2-friday-theme-heroes-vs-villains/
END:VEVENT
BEGIN:VEVENT
DTSTART;VALUE=DATE:20220617
DTEND;VALUE=DATE:20220618
DTSTAMP:20260424T221550
CREATED:20220601T203600Z
LAST-MODIFIED:20220601T203600Z
UID:5397-1655424000-1655510399@hiddenpinesranch.com
SUMMARY:Week 1 Friday Theme: Out of This World!
DESCRIPTION:Blast off! It’s time for a gravity-defying\, world-warping\, space-tacular adventure!
URL:https://hiddenpinesranch.com/event/week-1-friday-theme-out-of-this-world/
END:VEVENT
BEGIN:VEVENT
DTSTART;VALUE=DATE:20220610
DTEND;VALUE=DATE:20220611
DTSTAMP:20260424T221550
CREATED:20220601T203246Z
LAST-MODIFIED:20220601T203340Z
UID:5394-1654819200-1654905599@hiddenpinesranch.com
SUMMARY:Mini Camp Friday Theme: H-P-ARRRRR! (Pirate Day)
DESCRIPTION:Ahoy\, campers! Bust out your best pirate attire – or walk the plank!
URL:https://hiddenpinesranch.com/event/friday-theme-h-p-arrrrr-pirate-day/
END:VEVENT
BEGIN:VEVENT
DTSTART;TZID=UTC:20220604T100000
DTEND;TZID=UTC:20220604T120000
DTSTAMP:20260424T221550
CREATED:20220411T182727Z
LAST-MODIFIED:20220509T121055Z
UID:5294-1654336800-1654344000@hiddenpinesranch.com
SUMMARY:Open House for 2022 Campers & Families
DESCRIPTION:
URL:https://hiddenpinesranch.com/event/open-house-for-2022-campers-families/
END:VEVENT
BEGIN:VEVENT
DTSTART;VALUE=DATE:20200205
DTEND;VALUE=DATE:20200206
DTSTAMP:20260424T221550
CREATED:20171228T235544Z
LAST-MODIFIED:20200128T185035Z
UID:2139-1580860800-1580947199@hiddenpinesranch.com
SUMMARY:New Campers & Unregistered Returning Families Registration
DESCRIPTION:Registration will open for new camper families and unregistered returning families on Monday\, February 5th at 7am.  Families will be able to access the registration system by clicking on the “Registration” tab on the top right corner of the website. 
URL:https://hiddenpinesranch.com/event/unregistered-new-campers-returning-families-registration/
END:VEVENT
BEGIN:VEVENT
DTSTART;VALUE=DATE:20200203
DTEND;VALUE=DATE:20200204
DTSTAMP:20260424T221550
CREATED:20171228T235356Z
LAST-MODIFIED:20200128T185246Z
UID:2136-1580688000-1580774399@hiddenpinesranch.com
SUMMARY:Returning Mini Camp Camper Registration
DESCRIPTION:Registration will open for campers that attended our Mini Camp in 2019 on Monday\, February 3rd at 7am.  Returning Mini Camp families will receive an email from Hidden Pines Ranch with registration instructions.
URL:https://hiddenpinesranch.com/event/returning-mini-camp-camper-registration/
END:VEVENT
END:VCALENDAR