BEGIN:VCALENDAR
VERSION:2.0
PRODID:-//Hidden Pines Ranch - ECPv6.15.20//NONSGML v1.0//EN
CALSCALE:GREGORIAN
METHOD:PUBLISH
X-ORIGINAL-URL:https://hiddenpinesranch.com
X-WR-CALDESC:Events for Hidden Pines Ranch
REFRESH-INTERVAL;VALUE=DURATION:PT1H
X-Robots-Tag:noindex
X-PUBLISHED-TTL:PT1H
BEGIN:VTIMEZONE
TZID:America/Chicago
BEGIN:DAYLIGHT
TZOFFSETFROM:-0600
TZOFFSETTO:-0500
TZNAME:CDT
DTSTART:20230312T080000
END:DAYLIGHT
BEGIN:STANDARD
TZOFFSETFROM:-0500
TZOFFSETTO:-0600
TZNAME:CST
DTSTART:20231105T070000
END:STANDARD
BEGIN:DAYLIGHT
TZOFFSETFROM:-0600
TZOFFSETTO:-0500
TZNAME:CDT
DTSTART:20240310T080000
END:DAYLIGHT
BEGIN:STANDARD
TZOFFSETFROM:-0500
TZOFFSETTO:-0600
TZNAME:CST
DTSTART:20241103T070000
END:STANDARD
BEGIN:DAYLIGHT
TZOFFSETFROM:-0600
TZOFFSETTO:-0500
TZNAME:CDT
DTSTART:20250309T080000
END:DAYLIGHT
BEGIN:STANDARD
TZOFFSETFROM:-0500
TZOFFSETTO:-0600
TZNAME:CST
DTSTART:20251102T070000
END:STANDARD
BEGIN:DAYLIGHT
TZOFFSETFROM:-0600
TZOFFSETTO:-0500
TZNAME:CDT
DTSTART:20260308T080000
END:DAYLIGHT
BEGIN:STANDARD
TZOFFSETFROM:-0500
TZOFFSETTO:-0600
TZNAME:CST
DTSTART:20261101T070000
END:STANDARD
END:VTIMEZONE
BEGIN:VTIMEZONE
TZID:UTC
BEGIN:STANDARD
TZOFFSETFROM:+0000
TZOFFSETTO:+0000
TZNAME:UTC
DTSTART:20220101T000000
END:STANDARD
END:VTIMEZONE
BEGIN:VEVENT
DTSTART;VALUE=DATE:20250617
DTEND;VALUE=DATE:20250620
DTSTAMP:20260424T165852
CREATED:20250409T175526Z
LAST-MODIFIED:20250409T175526Z
UID:6471-1750118400-1750377599@hiddenpinesranch.com
SUMMARY:LIT Overnight & Kayak Trip
DESCRIPTION:Our Leaders in Training have their first overnight camping trip on the Namekagon River in Wisconsin. They’ll camp out in tents and go on an exciting kayak trip. \nMore information on this event will be sent out to our Session 1 LIT families prior to the overnight date. For more information on our Leaders in Training program and their special events\, you can visit our LIT program page. 
URL:https://hiddenpinesranch.com/event/lit-overnight-kayak-trip/
LOCATION:Trego\, WI\, Trego\, WI\, United States
END:VEVENT
BEGIN:VEVENT
DTSTART;VALUE=DATE:20250616
DTEND;VALUE=DATE:20250617
DTSTAMP:20260424T165852
CREATED:20250409T174740Z
LAST-MODIFIED:20250425T181228Z
UID:6463-1750032000-1750118399@hiddenpinesranch.com
SUMMARY:First Day of Session 1
DESCRIPTION:Session 1 runs M-F\, June 16th – 27th.
URL:https://hiddenpinesranch.com/event/first-day-of-session-1/
LOCATION:Hidden Pines Ranch\, 10670 75th St N\, Stillwater\, MN\, 55082\, United States
END:VEVENT
BEGIN:VEVENT
DTSTART;VALUE=DATE:20250609
DTEND;VALUE=DATE:20250610
DTSTAMP:20260424T165852
CREATED:20250409T174512Z
LAST-MODIFIED:20250409T174512Z
UID:6461-1749427200-1749513599@hiddenpinesranch.com
SUMMARY:First Day of Mini Camp
DESCRIPTION:Mini Camp runs M-F\, June 9th – 13th.
URL:https://hiddenpinesranch.com/event/first-day-of-mini-camp/
LOCATION:Hidden Pines Ranch\, 10670 75th St N\, Stillwater\, MN\, 55082\, United States
END:VEVENT
BEGIN:VEVENT
DTSTART;TZID=America/Chicago:20250607T100000
DTEND;TZID=America/Chicago:20250607T120000
DTSTAMP:20260424T165852
CREATED:20250409T174321Z
LAST-MODIFIED:20250409T174321Z
UID:6457-1749290400-1749297600@hiddenpinesranch.com
SUMMARY:HPR Open House
DESCRIPTION:We’re kicking off our 2025 season with our annual Open House! At our camper Open House\, 2025 families are invited to HPR to get settled in before our camp sessions start. Campers will have the chance to meet their counselors\, go on a tour of camp grounds\, pick up their 2025 t-shirts\, check out additional HPR merch\, drop off any camper medications\, and see what their HPR life will look like! We will send out a sign-up genius link to sign-up for a 30-minute slot a few weeks prior to our Open House date. 
URL:https://hiddenpinesranch.com/event/hpr-open-house-2/
LOCATION:Hidden Pines Ranch\, 10670 75th St N\, Stillwater\, MN\, 55082\, United States
END:VEVENT
BEGIN:VEVENT
DTSTART;TZID=UTC:20250512T190000
DTEND;TZID=UTC:20250512T200000
DTSTAMP:20260424T165852
CREATED:20250429T131413Z
LAST-MODIFIED:20250429T131413Z
UID:6532-1747076400-1747080000@hiddenpinesranch.com
SUMMARY:New Family Orientation via Zoom
DESCRIPTION:Our New Family Orientation is scheduled for Monday\, May 12th from 7:00-8:00pm via Zoom. The HPR Director Team will provide new families – and returning families that would like a camp refresher – with information on our daily schedule\, program overview\, what to pack\, communications from camp\, drop-off\, pick-up\, and more. There will be time for breakout rooms for each age group & program area as well as a Q&A. Registration via Zoom is required to attend: Click here to sign-up.  \nGot Questions? Use this form to submit your questions prior to the event.  \nCan’t make it? We’ll record the event and send to all new families as well as post it on our website.  
URL:https://hiddenpinesranch.com/event/new-family-orientation-via-zoom/
END:VEVENT
BEGIN:VEVENT
DTSTART;TZID=UTC:20250127T080000
DTEND;TZID=UTC:20250127T080000
DTSTAMP:20260424T165852
CREATED:20250108T143824Z
LAST-MODIFIED:20250108T143824Z
UID:6365-1737964800-1737964800@hiddenpinesranch.com
SUMMARY:Registration Opens for New Families
DESCRIPTION:Phase 3: Summer 2025 registration opens for new families.
URL:https://hiddenpinesranch.com/event/registration-opens-for-new-families-2/
END:VEVENT
BEGIN:VEVENT
DTSTART;TZID=UTC:20250123T080000
DTEND;TZID=UTC:20250123T080000
DTSTAMP:20260424T165852
CREATED:20250108T143748Z
LAST-MODIFIED:20250108T143748Z
UID:6363-1737619200-1737619200@hiddenpinesranch.com
SUMMARY:Registration Opens for 2024 Mini Camp Families
DESCRIPTION:Phase 2: Summer 2025 registration opens for 2024 Mini Camp only families.
URL:https://hiddenpinesranch.com/event/registration-opens-for-2024-mini-camp-families/
END:VEVENT
BEGIN:VEVENT
DTSTART;TZID=UTC:20250120T080000
DTEND;TZID=UTC:20250120T080000
DTSTAMP:20260424T165852
CREATED:20250108T143642Z
LAST-MODIFIED:20250108T143642Z
UID:6361-1737360000-1737360000@hiddenpinesranch.com
SUMMARY:Registration Opens for 2024 2-8 Week Families
DESCRIPTION:Phase 1: Summer 2025 registration opens for 2024 2-8 week families.
URL:https://hiddenpinesranch.com/event/registration-opens-for-2024-2-8-week-families/
END:VEVENT
BEGIN:VEVENT
DTSTART;TZID=UTC:20241221T140000
DTEND;TZID=UTC:20241221T160000
DTSTAMP:20260424T165852
CREATED:20241214T221741Z
LAST-MODIFIED:20241214T221741Z
UID:6299-1734789600-1734796800@hiddenpinesranch.com
SUMMARY:Winter Day 2024
DESCRIPTION:Has your camper ever wondered what HPR is like in the winter? Join us for HPR Winter Day 2024 where campers can reunite with their camp community and participate in classic winter activities like sledding\, boot hockey\, making snow forts\, and more! \nWinter Day is for 2024 campers. Registration opens on Monday\, November 25th at 8:00 am on the Parent Portal.
URL:https://hiddenpinesranch.com/event/winter-day-2024/
END:VEVENT
BEGIN:VEVENT
DTSTART;TZID=UTC:20241006T123000
DTEND;TZID=UTC:20241006T163000
DTSTAMP:20260424T165852
CREATED:20241214T221458Z
LAST-MODIFIED:20241214T221458Z
UID:6297-1728217800-1728232200@hiddenpinesranch.com
SUMMARY:HPR Family Camp
DESCRIPTION:Family Camp is for 2024 campers and their immediate family members to participate in camp activities together. Families will have the chance to experience classic camp activities like archer\, canoeing\, cooking over a fire\, and pickleball. They will also have the chance to sign-up for some camper favorite choice activities! \nThis event is for individuals entering Kindergarten and older. Registration includes 1-2 parents/guardians per family. If a parent.guardian is unable to attend\, a grandparent is welcome to attend in their place as a camper’s “grown up.”
URL:https://hiddenpinesranch.com/event/hpr-family-camp/
END:VEVENT
BEGIN:VEVENT
DTSTART;TZID=America/Chicago:20240808T140000
DTEND;TZID=America/Chicago:20240808T160000
DTSTAMP:20260424T165852
CREATED:20231219T165548Z
LAST-MODIFIED:20231219T165548Z
UID:6058-1723125600-1723132800@hiddenpinesranch.com
SUMMARY:HPR Play
DESCRIPTION:It’s opening night (day?) for the 2024 camp play! Campers and counselors will have worked together starting in Week 4 to put together a play in all aspects – gathering costumes\, painting sets\, acting out all the parts\, and even working backstage on the crew. On play day\, all of camp will gather with participating camper families to celebrate their hard work and enjoy the show! The play will be announced to campers and counselors during the summer\, and more information on timing and logistics of the play will be sent out to our Session 4 families closer to the event date. 
URL:https://hiddenpinesranch.com/event/hpr-play-3/
END:VEVENT
BEGIN:VEVENT
DTSTART;VALUE=DATE:20240806
DTEND;VALUE=DATE:20240808
DTSTAMP:20260424T165852
CREATED:20231219T165248Z
LAST-MODIFIED:20250108T143925Z
UID:6056-1722902400-1723075199@hiddenpinesranch.com
SUMMARY:4th Grade Late Nite & 5th Grade Overnight #2
DESCRIPTION:Our 4th grade campers will have their second late nite\, and our 5th graders will have their second overnight in Session 4! 4th graders will have the chance to stay at camp after-hours until late in the evening\, and our 5th graders will have the chance to stay overnight. More information on this event will be sent out to our Session 4 families prior to the late nite/overnight date. For more information on our Traditional program and their special events\, you can visit our Traditional program page. 
URL:https://hiddenpinesranch.com/event/4th-grade-late-nite-5th-grade-overnight-2/
END:VEVENT
BEGIN:VEVENT
DTSTART;VALUE=DATE:20240805
DTEND;VALUE=DATE:20240807
DTSTAMP:20260424T165852
CREATED:20231219T165027Z
LAST-MODIFIED:20231219T165027Z
UID:6054-1722816000-1722988799@hiddenpinesranch.com
SUMMARY:LIT Overnight #2
DESCRIPTION:Our Leaders in Training have their second overnight in Session 4! They will stay at HPR for a one-night overnight in Week 8. More information on this event will be sent our to our Session 4 families prior to the overnight date. For more information on our Leaders in Training program and their special events\, you can visit our L.I.T program page. 
URL:https://hiddenpinesranch.com/event/lit-overnight-2/
END:VEVENT
BEGIN:VEVENT
DTSTART;VALUE=DATE:20240725
DTEND;VALUE=DATE:20240727
DTSTAMP:20260424T165852
CREATED:20231219T164752Z
LAST-MODIFIED:20231219T164752Z
UID:6052-1721865600-1722038399@hiddenpinesranch.com
SUMMARY:Bridge Overnight #2
DESCRIPTION:Our Bridge program has their second overnight in Session 3! They will stay offsite for a one-night overnight in Week 6. More information on this event will be sent out to our Session 3 families prior to the overnight date. For more information on our Bridge program and their special events\, you can visit our Bridge program page. 
URL:https://hiddenpinesranch.com/event/bridge-overnight-2-2/
END:VEVENT
BEGIN:VEVENT
DTSTART;VALUE=DATE:20240723
DTEND;VALUE=DATE:20240726
DTSTAMP:20260424T165852
CREATED:20231219T164612Z
LAST-MODIFIED:20231219T164612Z
UID:6050-1721692800-1721951999@hiddenpinesranch.com
SUMMARY:Middle School Overnight #2
DESCRIPTION:Our Middle School program has their second overnight in Session 3! They will head offsite for a double-night overnight\, including a canoe trip down the St. Croix River\, in Week 6. More information on this event will be sent out to our Session 3 families prior to the overnight date. For more information on our Middle School program and their special events\, you can visit our Middle School program page. 
URL:https://hiddenpinesranch.com/event/middle-school-overnight-2-2/
END:VEVENT
BEGIN:VEVENT
DTSTART;VALUE=DATE:20240723
DTEND;VALUE=DATE:20240725
DTSTAMP:20260424T165852
CREATED:20231219T164324Z
LAST-MODIFIED:20231219T164324Z
UID:6048-1721692800-1721865599@hiddenpinesranch.com
SUMMARY:Meal Packing Event
DESCRIPTION:After our Penny Wars Fundraiser\, the local nonprofit organization Meals from the Heart will set up shop at camp for all of our campers to get the chance to pack meals! All camper groups will rotate through the meal packing station throughout Tuesday\, July 23rd and Wednesday\, July 24th. More information regarding meal packing will be sent to our Session 3 families prior to the event date. 
URL:https://hiddenpinesranch.com/event/meal-packing-event/
END:VEVENT
BEGIN:VEVENT
DTSTART;VALUE=DATE:20240715
DTEND;VALUE=DATE:20240724
DTSTAMP:20260424T165852
CREATED:20231219T164111Z
LAST-MODIFIED:20231219T164111Z
UID:6046-1721001600-1721779199@hiddenpinesranch.com
SUMMARY:Penny Wars
DESCRIPTION:Our annual Penny Wars fundraiser will take place Monday-Friday of Week 5\, and Monday-Tuesday of Week 6! This fundraiser is not only a camp-wide competition between groups in all programs\, but also serves to raise money for our Meal Packing event with Meals from the Heart – a local nonprofit company that works to bring meals to local families in need. For more information on Meals from the Heart\, you can visit their website at mealsfromtheheart.org. More information regarding Penny Wars will be sent to our Session 3 families prior to the event date. 
URL:https://hiddenpinesranch.com/event/penny-wars/
END:VEVENT
BEGIN:VEVENT
DTSTART;TZID=America/Chicago:20240712T140000
DTEND;TZID=America/Chicago:20240712T154500
DTSTAMP:20260424T165852
CREATED:20231219T163358Z
LAST-MODIFIED:20231219T163358Z
UID:6044-1720792800-1720799100@hiddenpinesranch.com
SUMMARY:Camper Talent Show
DESCRIPTION:Lights…Camera…Action! Our campers will have the chance to show their talents to wrap up our Session 2. Campers will audition for the talent show in Week 3\, and will work with our counselors to practice their skills so they are excited to show them to their fellow campers\, our staff\, and their families! More information regarding timing and logistics of the camper talent show will be sent out to our Session 2 families prior to the event date.
URL:https://hiddenpinesranch.com/event/camper-talent-show-2/
END:VEVENT
BEGIN:VEVENT
DTSTART;VALUE=DATE:20240710
DTEND;VALUE=DATE:20240712
DTSTAMP:20260424T165852
CREATED:20231219T162731Z
LAST-MODIFIED:20240503T200508Z
UID:6037-1720569600-1720742399@hiddenpinesranch.com
SUMMARY:4th Grade Late Nite & 5th Grade Overnight #1
DESCRIPTION:Our 4th grade campers will have their first late nite\, and our 5th graders will have their first overnight in Session 2! 4th graders will have the chance to stay at camp after-hours until late in the evening\, and our 5th graders will have the chance to stay overnight. More information on this event will be sent out to our Session 2 families prior to the late nite/overnight date. For more information on our Traditional program and their special events\, you can visit our Traditional program page. 
URL:https://hiddenpinesranch.com/event/4th-grade-late-nite-5th-grade-overnight-1/
END:VEVENT
BEGIN:VEVENT
DTSTART;VALUE=DATE:20240704
DTEND;VALUE=DATE:20240706
DTSTAMP:20260424T165852
CREATED:20231219T162353Z
LAST-MODIFIED:20231219T163432Z
UID:6035-1720051200-1720223999@hiddenpinesranch.com
SUMMARY:NO CAMP FOR FOURTH OF JULY
DESCRIPTION:Happy Fourth of July! HPR will be closed Thursday\, July 4th and Friday\, July 5th 2024. 
URL:https://hiddenpinesranch.com/event/no-camp-for-fourth-of-july/
END:VEVENT
BEGIN:VEVENT
DTSTART;TZID=America/Chicago:20240628T140000
DTEND;TZID=America/Chicago:20240628T160000
DTSTAMP:20260424T165852
CREATED:20231219T162301Z
LAST-MODIFIED:20231219T163452Z
UID:6033-1719583200-1719590400@hiddenpinesranch.com
SUMMARY:Counselor Talent Show
DESCRIPTION:Prepare to be “wowed” – our counselor talent show will wrap up our Session 1! Campers will have the chance to watch our staff perform various talents – whether than be singing\, dancing\, gymnastics\, skits\, or even things like extreme pencil-breaking or timed toe-painting! 
URL:https://hiddenpinesranch.com/event/counselor-talent-show/
END:VEVENT
BEGIN:VEVENT
DTSTART;VALUE=DATE:20240627
DTEND;VALUE=DATE:20240629
DTSTAMP:20260424T165852
CREATED:20231219T162032Z
LAST-MODIFIED:20231219T163518Z
UID:6031-1719446400-1719619199@hiddenpinesranch.com
SUMMARY:Bridge Overnight #1
DESCRIPTION:Our Bridge program has their first overnight in Session 1! They will stay onsite at HPR for a one-night overnight in Week 2. More information on this event will be sent out to our Session 1 families prior to the overnight date. For more information on our Bridge program and their special events\, you can visit our Bridge program page. 
URL:https://hiddenpinesranch.com/event/bridge-overnight-1-2/
END:VEVENT
BEGIN:VEVENT
DTSTART;VALUE=DATE:20240625
DTEND;VALUE=DATE:20240628
DTSTAMP:20260424T165852
CREATED:20231219T161740Z
LAST-MODIFIED:20231219T163534Z
UID:6028-1719273600-1719532799@hiddenpinesranch.com
SUMMARY:Middle School Overnight #1
DESCRIPTION:Our Middle School program has their first overnight in Session 1! They will head offsite for an exciting double-night overnight in Week 2. More information on this event will be sent out to our Session 1 families prior to the overnight date. For more information on our Middle School program and their special events\, you can visit our Middle School program page. 
URL:https://hiddenpinesranch.com/event/middle-school-overnight-1-2/
END:VEVENT
BEGIN:VEVENT
DTSTART;VALUE=DATE:20240618
DTEND;VALUE=DATE:20240621
DTSTAMP:20260424T165852
CREATED:20231219T160930Z
LAST-MODIFIED:20231219T163548Z
UID:6024-1718668800-1718927999@hiddenpinesranch.com
SUMMARY:LIT Overnight #1
DESCRIPTION:Our Leaders in Training have their first overnight in Session 1! They will head offsite for an exciting kayak trip – more information on this event will be sent out to our Session 1 families prior to the overnight date. For more information on our Leaders in Training program and their special events\, you can visit our L.I.T program page. 
URL:https://hiddenpinesranch.com/event/lit-overnight-1/
END:VEVENT
BEGIN:VEVENT
DTSTART;TZID=America/Chicago:20240608T100000
DTEND;TZID=America/Chicago:20240608T120000
DTSTAMP:20260424T165852
CREATED:20231219T160437Z
LAST-MODIFIED:20231219T163604Z
UID:6022-1717840800-1717848000@hiddenpinesranch.com
SUMMARY:Open House
DESCRIPTION:Come get ready for summer 2024! At our camper open house\, 2024 families can come to camp to get set for camp. Campers can meet their counselors\, get a tour of camp grounds by some of our staff\, pick up their 2024 t-shirts\, buy some HPR merch\, drop off any camper medications\, and see what their HPR life will look like before we kick off! We will send out a sign-up genius link to sign-up for a 30-minute slot a few weeks prior to our open house date. 
URL:https://hiddenpinesranch.com/event/open-house/
END:VEVENT
BEGIN:VEVENT
DTSTART;TZID=America/Chicago:20240506T190000
DTEND;TZID=America/Chicago:20240506T210000
DTSTAMP:20260424T165852
CREATED:20231219T155816Z
LAST-MODIFIED:20240408T185507Z
UID:6020-1715022000-1715029200@hiddenpinesranch.com
SUMMARY:New Parent Orientation
DESCRIPTION:Our virtual new family orientation is for any families new to HPR in 2024 (or any returning families that want a camp refresher)! We will introduce our leadership team\, talk through some of our programming\, go over a typical day at camp\, and review any health and safety policies\, first day tips\, and what-to-pack information that’s helpful to know before your first summer. To view last year’s new parent orientation\, you can visit our Welcome Tips page. 
URL:https://hiddenpinesranch.com/event/new-parent-orientation/
END:VEVENT
BEGIN:VEVENT
DTSTART;TZID=America/Chicago:20240129T080000
DTEND;TZID=America/Chicago:20240129T080000
DTSTAMP:20260424T165852
CREATED:20231219T155343Z
LAST-MODIFIED:20231219T163655Z
UID:6018-1706515200-1706515200@hiddenpinesranch.com
SUMMARY:Registration opens for new families
DESCRIPTION:For more information regarding our registration process\, you can visit our Registration Page. 
URL:https://hiddenpinesranch.com/event/registration-opens-for-new-families/
END:VEVENT
BEGIN:VEVENT
DTSTART;TZID=America/Chicago:20240125T080000
DTEND;TZID=America/Chicago:20240125T080000
DTSTAMP:20260424T165852
CREATED:20231219T155053Z
LAST-MODIFIED:20231219T163730Z
UID:6016-1706169600-1706169600@hiddenpinesranch.com
SUMMARY:Registration opens for returning 2023 Mini Camp Families
DESCRIPTION:For more information regarding our registration process\, you can visit our Registration Page. 
URL:https://hiddenpinesranch.com/event/registration-opens-for-returning-2023-mini-camp-families/
END:VEVENT
BEGIN:VEVENT
DTSTART;TZID=America/Chicago:20240122T080000
DTEND;TZID=America/Chicago:20240122T080000
DTSTAMP:20260424T165852
CREATED:20231219T154906Z
LAST-MODIFIED:20231219T163746Z
UID:6014-1705910400-1705910400@hiddenpinesranch.com
SUMMARY:Registration opens for returning 2023 2-8 week families
DESCRIPTION:For more information regarding our registration process\, you can visit our Registration Page. 
URL:https://hiddenpinesranch.com/event/registration-opens-for-returning-2023-2-8-week-families/
END:VEVENT
BEGIN:VEVENT
DTSTART;VALUE=DATE:20230814
DTEND;VALUE=DATE:20230815
DTSTAMP:20260424T165852
CREATED:20230407T160839Z
LAST-MODIFIED:20230407T160839Z
UID:5664-1691971200-1692057599@hiddenpinesranch.com
SUMMARY:Hill Murray Freshman Retreat at HPR
DESCRIPTION:
URL:https://hiddenpinesranch.com/event/hill-murray-freshman-retreat-at-hpr/
END:VEVENT
END:VCALENDAR