BEGIN:VCALENDAR
VERSION:2.0
PRODID:-//Hidden Pines Ranch - ECPv6.15.20//NONSGML v1.0//EN
CALSCALE:GREGORIAN
METHOD:PUBLISH
X-WR-CALNAME:Hidden Pines Ranch
X-ORIGINAL-URL:https://hiddenpinesranch.com
X-WR-CALDESC:Events for Hidden Pines Ranch
REFRESH-INTERVAL;VALUE=DURATION:PT1H
X-Robots-Tag:noindex
X-PUBLISHED-TTL:PT1H
BEGIN:VTIMEZONE
TZID:UTC
BEGIN:STANDARD
TZOFFSETFROM:+0000
TZOFFSETTO:+0000
TZNAME:UTC
DTSTART:20230101T000000
END:STANDARD
END:VTIMEZONE
BEGIN:VTIMEZONE
TZID:America/Chicago
BEGIN:DAYLIGHT
TZOFFSETFROM:-0600
TZOFFSETTO:-0500
TZNAME:CDT
DTSTART:20240310T080000
END:DAYLIGHT
BEGIN:STANDARD
TZOFFSETFROM:-0500
TZOFFSETTO:-0600
TZNAME:CST
DTSTART:20241103T070000
END:STANDARD
BEGIN:DAYLIGHT
TZOFFSETFROM:-0600
TZOFFSETTO:-0500
TZNAME:CDT
DTSTART:20250309T080000
END:DAYLIGHT
BEGIN:STANDARD
TZOFFSETFROM:-0500
TZOFFSETTO:-0600
TZNAME:CST
DTSTART:20251102T070000
END:STANDARD
BEGIN:DAYLIGHT
TZOFFSETFROM:-0600
TZOFFSETTO:-0500
TZNAME:CDT
DTSTART:20260308T080000
END:DAYLIGHT
BEGIN:STANDARD
TZOFFSETFROM:-0500
TZOFFSETTO:-0600
TZNAME:CST
DTSTART:20261101T070000
END:STANDARD
END:VTIMEZONE
BEGIN:VEVENT
DTSTART;TZID=UTC:20260402T080000
DTEND;TZID=UTC:20260402T170000
DTSTAMP:20260424T132449
CREATED:20260402T203829Z
LAST-MODIFIED:20260402T203829Z
UID:6827-1775116800-1775149200@hiddenpinesranch.com
SUMMARY:First Day of Session 1
DESCRIPTION:Session 1 runs M-F\, June 15th – 26th \nHidden Pines Ranch 10670 75th St N\, Stillwater\, MN\, 55082
URL:https://hiddenpinesranch.com/event/first-day-of-session-1-2/
LOCATION:MN
END:VEVENT
BEGIN:VEVENT
DTSTART;VALUE=DATE:20250808
DTEND;VALUE=DATE:20250809
DTSTAMP:20260424T132449
CREATED:20250409T183222Z
LAST-MODIFIED:20250409T183222Z
UID:6509-1754611200-1754697599@hiddenpinesranch.com
SUMMARY:Last Day of Camp
DESCRIPTION:The last day of camp of our Summer 2025 season will be on Friday\, August 8th.
URL:https://hiddenpinesranch.com/event/last-day-of-camp-2/
LOCATION:Hidden Pines Ranch\, 10670 75th St N\, Stillwater\, MN\, 55082\, United States
END:VEVENT
BEGIN:VEVENT
DTSTART;TZID=America/Chicago:20250807T140000
DTEND;TZID=America/Chicago:20250807T160000
DTSTAMP:20260424T132449
CREATED:20250409T183134Z
LAST-MODIFIED:20250409T183134Z
UID:6507-1754575200-1754582400@hiddenpinesranch.com
SUMMARY:HPR Annual Camper Play
DESCRIPTION:It’s opening night (day?) for the Annual HPR Play! Campers and counselors work together for half the summer to put together a play in all aspects – gathering costumes\, painting sets\, acting out all the parts\, and even working backstage on the crew. On Play Day\, all of camp will gather with participating camper families to celebrate their hard work and enjoy the show! \nThe play will be announced to campers and counselors during the summer. More information on timing and logistics of the play will be sent out to our Session 4 families closer to the event date. 
URL:https://hiddenpinesranch.com/event/hpr-annual-camper-play/
LOCATION:Hidden Pines Ranch\, 10670 75th St N\, Stillwater\, MN\, 55082\, United States
END:VEVENT
BEGIN:VEVENT
DTSTART;TZID=America/Chicago:20250805T163000
DTEND;TZID=America/Chicago:20250805T200000
DTSTAMP:20260424T132449
CREATED:20250409T182908Z
LAST-MODIFIED:20250409T182908Z
UID:6505-1754411400-1754424000@hiddenpinesranch.com
SUMMARY:4th Grade Late Night
DESCRIPTION:Our 4th Grade campers will have a Late Night experience at Hidden Pines Ranch. 4th Grade campers will have the chance to join our 5th Grade campers in staying at camp after-hours until late in the evening. Campers will cook dinner over the fire and play games as a group. \nMore information on this event will be sent out to our Session 4 4th Grade families prior to the Late Night. For more information on our Traditional program and special events\, you can visit our Traditional program page. 
URL:https://hiddenpinesranch.com/event/4th-grade-late-night-2/
LOCATION:Hidden Pines Ranch\, 10670 75th St N\, Stillwater\, MN\, 55082\, United States
END:VEVENT
BEGIN:VEVENT
DTSTART;VALUE=DATE:20250805
DTEND;VALUE=DATE:20250807
DTSTAMP:20260424T132449
CREATED:20250409T182814Z
LAST-MODIFIED:20250425T181834Z
UID:6503-1754352000-1754524799@hiddenpinesranch.com
SUMMARY:5th Grade Overnight
DESCRIPTION:Our 5th Grade Campers have an overnight camping experience. They will stay after camp to cook dinner over the fire\, play games\, and camp out in tents overnight. \nMore information on this event will be sent out to our Session 4 5th Grade families prior to the overnight. For more information on our Traditional program and their special events\, you can visit our Traditional program page. 
URL:https://hiddenpinesranch.com/event/5th-grade-overnight-at-hidden-pines-ranch-2/
LOCATION:Hidden Pines Ranch\, 10670 75th St N\, Stillwater\, MN\, 55082\, United States
END:VEVENT
BEGIN:VEVENT
DTSTART;VALUE=DATE:20250804
DTEND;VALUE=DATE:20250806
DTSTAMP:20260424T132449
CREATED:20250409T182705Z
LAST-MODIFIED:20250425T181816Z
UID:6501-1754265600-1754438399@hiddenpinesranch.com
SUMMARY:LIT Overnight at Hidden Pines Ranch
DESCRIPTION:Our Leaders in Training will have a one-night overnight camping experience. They’ll cook dinner over the fire\, play games\, and celebrate the leadership work they’ve accomplished over the summer. \nMore information on this event will be sent our to our Session 4 LIT families prior to the overnight date. For more information on our Leaders in Training program and special events\, you can visit our L.I.T program page. 
URL:https://hiddenpinesranch.com/event/lit-overnight-at-hidden-pines-ranch/
LOCATION:Hidden Pines Ranch\, 10670 75th St N\, Stillwater\, MN\, 55082\, United States
END:VEVENT
BEGIN:VEVENT
DTSTART;VALUE=DATE:20250728
DTEND;VALUE=DATE:20250729
DTSTAMP:20260424T132449
CREATED:20250409T175148Z
LAST-MODIFIED:20250409T175148Z
UID:6469-1753660800-1753747199@hiddenpinesranch.com
SUMMARY:First Day of Session 4
DESCRIPTION:Session 4 runs M-F\, July 28th – August 8th.
URL:https://hiddenpinesranch.com/event/first-day-of-session-4/
LOCATION:Hidden Pines Ranch\, 10670 75th St N\, Stillwater\, MN\, 55082\, United States
END:VEVENT
BEGIN:VEVENT
DTSTART;VALUE=DATE:20250724
DTEND;VALUE=DATE:20250726
DTSTAMP:20260424T132449
CREATED:20250409T182443Z
LAST-MODIFIED:20250425T181751Z
UID:6498-1753315200-1753487999@hiddenpinesranch.com
SUMMARY:Bridge Overnight
DESCRIPTION:Our Bridge campers have their second overnight camping trip. They will head offsite to camp out\, cook dinner over the fire\, and swim. \nMore information on this event will be sent out to our Session 3 Bridge families prior to the overnight date. For more information on our Bridge program and special events\, you can visit our Bridge program page. 
URL:https://hiddenpinesranch.com/event/bridge-overnight-at-lake-elmo-park-reserve/
LOCATION:Lake Elmo Park Reserve\, 1515 Keats Ave N\, Lake Elmo\, MN\, 55042\, United States
END:VEVENT
BEGIN:VEVENT
DTSTART;VALUE=DATE:20250722
DTEND;VALUE=DATE:20250725
DTSTAMP:20260424T132449
CREATED:20250409T182127Z
LAST-MODIFIED:20250425T181723Z
UID:6495-1753142400-1753401599@hiddenpinesranch.com
SUMMARY:Middle School Overnight & Canoe Trip
DESCRIPTION:Our Middle School program will travel offsite for an overnight camping experience\, including a canoe trip down the St. Croix River. \nMore information on this event will be sent out to our Session 3 Middle School families prior to the overnight date. For more information on our Middle School program and special events\, you can visit our Middle School program page. 
URL:https://hiddenpinesranch.com/event/middle-school-overnight-canoe-trip-at-william-obrien-state-park/
LOCATION:William O’Brien State Park\, 16821 O Brien Trail N\, Marine on St Croix\, MN\, 55047\, United States
END:VEVENT
BEGIN:VEVENT
DTSTART;VALUE=DATE:20250722
DTEND;VALUE=DATE:20250724
DTSTAMP:20260424T132449
CREATED:20250409T181737Z
LAST-MODIFIED:20250409T181737Z
UID:6493-1753142400-1753315199@hiddenpinesranch.com
SUMMARY:Meal Packing with Meals From The Heart
DESCRIPTION:After our Penny Wars Fundraiser\, the local nonprofit organization Meals from the Heart will set up shop at HPR so all of our campers have the chance to pack meals for local families in need. All camper groups will rotate through the meal packing station at least once. \nMore information regarding meal packing will be sent to our Session 3 families prior to the event date. 
URL:https://hiddenpinesranch.com/event/meal-packing-with-meals-from-the-heart-2/
LOCATION:Hidden Pines Ranch\, 10670 75th St N\, Stillwater\, MN\, 55082\, United States
END:VEVENT
BEGIN:VEVENT
DTSTART;VALUE=DATE:20250715
DTEND;VALUE=DATE:20250724
DTSTAMP:20260424T132449
CREATED:20250409T181522Z
LAST-MODIFIED:20250409T181522Z
UID:6491-1752537600-1753315199@hiddenpinesranch.com
SUMMARY:Penny Wars Fundraiser for Meals From The Heart
DESCRIPTION:Our annual Penny Wars fundraiser will take place Monday-Friday of Week 5 & Monday-Tuesday of Week 6. This fundraiser is not only a camp-wide competition between groups in all programs\, but also serves to raise money for our Meal Packing event with Meals from the Heart – a local nonprofit company that works to bring meals to local families in need. \nFor more information on Meals from the Heart\, you can visit their website\, linked here.  \nMore information regarding our Penny Wars Fundraiser will be sent to our Session 3 families prior to the event. 
URL:https://hiddenpinesranch.com/event/penny-wars-fundraiser-for-meals-from-the-heart/
LOCATION:Hidden Pines Ranch\, 10670 75th St N\, Stillwater\, MN\, 55082\, United States
END:VEVENT
BEGIN:VEVENT
DTSTART;VALUE=DATE:20250714
DTEND;VALUE=DATE:20250715
DTSTAMP:20260424T132449
CREATED:20250409T175017Z
LAST-MODIFIED:20250409T175017Z
UID:6467-1752451200-1752537599@hiddenpinesranch.com
SUMMARY:First Day of Session 3
DESCRIPTION:Session 3 runs M-F\, July 14th – 25th. 
URL:https://hiddenpinesranch.com/event/first-day-of-session-3/
LOCATION:Hidden Pines Ranch\, 10670 75th St N\, Stillwater\, MN\, 55082\, United States
END:VEVENT
BEGIN:VEVENT
DTSTART;TZID=America/Chicago:20250711T140000
DTEND;TZID=America/Chicago:20250711T153000
DTSTAMP:20260424T132449
CREATED:20250409T181251Z
LAST-MODIFIED:20250409T181251Z
UID:6489-1752242400-1752247800@hiddenpinesranch.com
SUMMARY:Camper Talent Show
DESCRIPTION:Lights…Camera…Action! Our campers will have the chance to show off their talents to wrap up Session 2. Campers will audition for the talent show\, work with counselors to practice their skills\, and then perform in front of their fellow campers\, our staff\, and their families. \nMore information regarding about the Camper Talent Show will be sent out to our Session 2 families prior to the event.
URL:https://hiddenpinesranch.com/event/camper-talent-show-3/
LOCATION:Hidden Pines Ranch\, 10670 75th St N\, Stillwater\, MN\, 55082\, United States
END:VEVENT
BEGIN:VEVENT
DTSTART;TZID=America/Chicago:20250709T163000
DTEND;TZID=America/Chicago:20250709T200000
DTSTAMP:20260424T132449
CREATED:20250409T180707Z
LAST-MODIFIED:20250409T180716Z
UID:6484-1752078600-1752091200@hiddenpinesranch.com
SUMMARY:4th Grade Late Night
DESCRIPTION:Our 4th Grade campers will have their first Late Night experience at Hidden Pines Ranch. 4th Grade campers will have the chance to join our 5th Grade campers in staying at camp after-hours until late in the evening. Campers will cook dinner over the fire and play games as a group. \nMore information on this event will be sent out to our Session 2 4th Grade families prior to the Late Night. For more information on our Traditional program and special events\, you can visit our Traditional program page. 
URL:https://hiddenpinesranch.com/event/4th-grade-late-night/
LOCATION:Hidden Pines Ranch\, 10670 75th St N\, Stillwater\, MN\, 55082\, United States
END:VEVENT
BEGIN:VEVENT
DTSTART;VALUE=DATE:20250709
DTEND;VALUE=DATE:20250711
DTSTAMP:20260424T132449
CREATED:20250409T180926Z
LAST-MODIFIED:20250425T181526Z
UID:6487-1752019200-1752191999@hiddenpinesranch.com
SUMMARY:5th Grade Overnight
DESCRIPTION:Our 5th Grade Campers have their first overnight camping experience. They will stay after camp to cook dinner over the fire\, play games\, and camp out in tents overnight. \nMore information on this event will be sent out to our Session 2 5th Grade families prior to the overnight. For more information on our Traditional program and their special events\, you can visit our Traditional program page. 
URL:https://hiddenpinesranch.com/event/5th-grade-overnight-at-hidden-pines-ranch/
LOCATION:Hidden Pines Ranch\, 10670 75th St N\, Stillwater\, MN\, 55082\, United States
END:VEVENT
BEGIN:VEVENT
DTSTART;VALUE=DATE:20250704
DTEND;VALUE=DATE:20250705
DTSTAMP:20260424T132449
CREATED:20250409T180310Z
LAST-MODIFIED:20250409T180310Z
UID:6482-1751587200-1751673599@hiddenpinesranch.com
SUMMARY:HPR Closed for Fourth of July Holiday
DESCRIPTION:There is no camp on Friday\, July 4th.
URL:https://hiddenpinesranch.com/event/hpr-closed-for-fourth-of-july-holiday/
LOCATION:MN
END:VEVENT
BEGIN:VEVENT
DTSTART;VALUE=DATE:20250630
DTEND;VALUE=DATE:20250701
DTSTAMP:20260424T132449
CREATED:20250409T174849Z
LAST-MODIFIED:20250409T174849Z
UID:6465-1751241600-1751327999@hiddenpinesranch.com
SUMMARY:First Day of Session 2
DESCRIPTION:Session 2 runs M-F\, June 30th – July 11th (No Camp on Friday\, July 4th)
URL:https://hiddenpinesranch.com/event/first-day-of-session-2/
LOCATION:Hidden Pines Ranch\, 10670 75th St N\, Stillwater\, MN\, 55082\, United States
END:VEVENT
BEGIN:VEVENT
DTSTART;TZID=America/Chicago:20250627T140000
DTEND;TZID=America/Chicago:20250627T153000
DTSTAMP:20260424T132449
CREATED:20250409T180144Z
LAST-MODIFIED:20250409T180144Z
UID:6480-1751032800-1751038200@hiddenpinesranch.com
SUMMARY:Counselor Talent Show
DESCRIPTION:Our HPR Staff Members come together to put on our Annual Counselor Talent Show. Come watch staff show off all of their many talents!
URL:https://hiddenpinesranch.com/event/counselor-talent-show-2/
LOCATION:Hidden Pines Ranch\, 10670 75th St N\, Stillwater\, MN\, 55082\, United States
END:VEVENT
BEGIN:VEVENT
DTSTART;VALUE=DATE:20250626
DTEND;VALUE=DATE:20250628
DTSTAMP:20260424T132449
CREATED:20250409T180027Z
LAST-MODIFIED:20250425T181502Z
UID:6478-1750896000-1751068799@hiddenpinesranch.com
SUMMARY:Bridge Overnight
DESCRIPTION:Our Bridge program has their first overnight camping experience. They will stay after camp to cook dinner over the fire\, play games\, and camp out in tents overnight. \nMore information on this event will be sent out to our Session 1 Bridge families prior to the overnight date. For more information on our Bridge program and their special events\, you can visit our Bridge program page. 
URL:https://hiddenpinesranch.com/event/bridge-overnight-at-hidden-pines-ranch/
LOCATION:Hidden Pines Ranch\, 10670 75th St N\, Stillwater\, MN\, 55082\, United States
END:VEVENT
BEGIN:VEVENT
DTSTART;VALUE=DATE:20250624
DTEND;VALUE=DATE:20250627
DTSTAMP:20260424T132449
CREATED:20250409T175847Z
LAST-MODIFIED:20250425T181414Z
UID:6474-1750723200-1750982399@hiddenpinesranch.com
SUMMARY:Middle School Overnight
DESCRIPTION:Our Middle School program has their first overnight camping trip. They will head offsite to camp out\, cook dinner over the fire\, and explore the park. \nMore information on this event will be sent out to our Session 1 Middle School families prior to the overnight date. For more information on our Middle School program and their special events\, you can visit our Middle School program page. 
URL:https://hiddenpinesranch.com/event/middle-school-overnight-at-interstate-state-park/
LOCATION:Interstate State Park (MN Side)\, 307 Milltown Rd\, Taylors Falls\, MN\, 55084\, United States
END:VEVENT
BEGIN:VEVENT
DTSTART;VALUE=DATE:20250617
DTEND;VALUE=DATE:20250620
DTSTAMP:20260424T132449
CREATED:20250409T175526Z
LAST-MODIFIED:20250409T175526Z
UID:6471-1750118400-1750377599@hiddenpinesranch.com
SUMMARY:LIT Overnight & Kayak Trip
DESCRIPTION:Our Leaders in Training have their first overnight camping trip on the Namekagon River in Wisconsin. They’ll camp out in tents and go on an exciting kayak trip. \nMore information on this event will be sent out to our Session 1 LIT families prior to the overnight date. For more information on our Leaders in Training program and their special events\, you can visit our LIT program page. 
URL:https://hiddenpinesranch.com/event/lit-overnight-kayak-trip/
LOCATION:Trego\, WI\, Trego\, WI\, United States
END:VEVENT
BEGIN:VEVENT
DTSTART;VALUE=DATE:20250616
DTEND;VALUE=DATE:20250617
DTSTAMP:20260424T132449
CREATED:20250409T174740Z
LAST-MODIFIED:20250425T181228Z
UID:6463-1750032000-1750118399@hiddenpinesranch.com
SUMMARY:First Day of Session 1
DESCRIPTION:Session 1 runs M-F\, June 16th – 27th.
URL:https://hiddenpinesranch.com/event/first-day-of-session-1/
LOCATION:Hidden Pines Ranch\, 10670 75th St N\, Stillwater\, MN\, 55082\, United States
END:VEVENT
BEGIN:VEVENT
DTSTART;VALUE=DATE:20250609
DTEND;VALUE=DATE:20250610
DTSTAMP:20260424T132449
CREATED:20250409T174512Z
LAST-MODIFIED:20250409T174512Z
UID:6461-1749427200-1749513599@hiddenpinesranch.com
SUMMARY:First Day of Mini Camp
DESCRIPTION:Mini Camp runs M-F\, June 9th – 13th.
URL:https://hiddenpinesranch.com/event/first-day-of-mini-camp/
LOCATION:Hidden Pines Ranch\, 10670 75th St N\, Stillwater\, MN\, 55082\, United States
END:VEVENT
BEGIN:VEVENT
DTSTART;TZID=America/Chicago:20250607T100000
DTEND;TZID=America/Chicago:20250607T120000
DTSTAMP:20260424T132449
CREATED:20250409T174321Z
LAST-MODIFIED:20250409T174321Z
UID:6457-1749290400-1749297600@hiddenpinesranch.com
SUMMARY:HPR Open House
DESCRIPTION:We’re kicking off our 2025 season with our annual Open House! At our camper Open House\, 2025 families are invited to HPR to get settled in before our camp sessions start. Campers will have the chance to meet their counselors\, go on a tour of camp grounds\, pick up their 2025 t-shirts\, check out additional HPR merch\, drop off any camper medications\, and see what their HPR life will look like! We will send out a sign-up genius link to sign-up for a 30-minute slot a few weeks prior to our Open House date. 
URL:https://hiddenpinesranch.com/event/hpr-open-house-2/
LOCATION:Hidden Pines Ranch\, 10670 75th St N\, Stillwater\, MN\, 55082\, United States
END:VEVENT
BEGIN:VEVENT
DTSTART;TZID=UTC:20250512T190000
DTEND;TZID=UTC:20250512T200000
DTSTAMP:20260424T132449
CREATED:20250429T131413Z
LAST-MODIFIED:20250429T131413Z
UID:6532-1747076400-1747080000@hiddenpinesranch.com
SUMMARY:New Family Orientation via Zoom
DESCRIPTION:Our New Family Orientation is scheduled for Monday\, May 12th from 7:00-8:00pm via Zoom. The HPR Director Team will provide new families – and returning families that would like a camp refresher – with information on our daily schedule\, program overview\, what to pack\, communications from camp\, drop-off\, pick-up\, and more. There will be time for breakout rooms for each age group & program area as well as a Q&A. Registration via Zoom is required to attend: Click here to sign-up.  \nGot Questions? Use this form to submit your questions prior to the event.  \nCan’t make it? We’ll record the event and send to all new families as well as post it on our website.  
URL:https://hiddenpinesranch.com/event/new-family-orientation-via-zoom/
LOCATION:MN
END:VEVENT
BEGIN:VEVENT
DTSTART;TZID=UTC:20250127T080000
DTEND;TZID=UTC:20250127T080000
DTSTAMP:20260424T132449
CREATED:20250108T143824Z
LAST-MODIFIED:20250108T143824Z
UID:6365-1737964800-1737964800@hiddenpinesranch.com
SUMMARY:Registration Opens for New Families
DESCRIPTION:Phase 3: Summer 2025 registration opens for new families.
URL:https://hiddenpinesranch.com/event/registration-opens-for-new-families-2/
LOCATION:MN
END:VEVENT
BEGIN:VEVENT
DTSTART;TZID=UTC:20250123T080000
DTEND;TZID=UTC:20250123T080000
DTSTAMP:20260424T132449
CREATED:20250108T143748Z
LAST-MODIFIED:20250108T143748Z
UID:6363-1737619200-1737619200@hiddenpinesranch.com
SUMMARY:Registration Opens for 2024 Mini Camp Families
DESCRIPTION:Phase 2: Summer 2025 registration opens for 2024 Mini Camp only families.
URL:https://hiddenpinesranch.com/event/registration-opens-for-2024-mini-camp-families/
LOCATION:MN
END:VEVENT
BEGIN:VEVENT
DTSTART;TZID=UTC:20250120T080000
DTEND;TZID=UTC:20250120T080000
DTSTAMP:20260424T132449
CREATED:20250108T143642Z
LAST-MODIFIED:20250108T143642Z
UID:6361-1737360000-1737360000@hiddenpinesranch.com
SUMMARY:Registration Opens for 2024 2-8 Week Families
DESCRIPTION:Phase 1: Summer 2025 registration opens for 2024 2-8 week families.
URL:https://hiddenpinesranch.com/event/registration-opens-for-2024-2-8-week-families/
LOCATION:MN
END:VEVENT
BEGIN:VEVENT
DTSTART;TZID=UTC:20241221T140000
DTEND;TZID=UTC:20241221T160000
DTSTAMP:20260424T132449
CREATED:20241214T221741Z
LAST-MODIFIED:20241214T221741Z
UID:6299-1734789600-1734796800@hiddenpinesranch.com
SUMMARY:Winter Day 2024
DESCRIPTION:Has your camper ever wondered what HPR is like in the winter? Join us for HPR Winter Day 2024 where campers can reunite with their camp community and participate in classic winter activities like sledding\, boot hockey\, making snow forts\, and more! \nWinter Day is for 2024 campers. Registration opens on Monday\, November 25th at 8:00 am on the Parent Portal.
URL:https://hiddenpinesranch.com/event/winter-day-2024/
LOCATION:MN
END:VEVENT
BEGIN:VEVENT
DTSTART;TZID=UTC:20241006T123000
DTEND;TZID=UTC:20241006T163000
DTSTAMP:20260424T132449
CREATED:20241214T221458Z
LAST-MODIFIED:20241214T221458Z
UID:6297-1728217800-1728232200@hiddenpinesranch.com
SUMMARY:HPR Family Camp
DESCRIPTION:Family Camp is for 2024 campers and their immediate family members to participate in camp activities together. Families will have the chance to experience classic camp activities like archer\, canoeing\, cooking over a fire\, and pickleball. They will also have the chance to sign-up for some camper favorite choice activities! \nThis event is for individuals entering Kindergarten and older. Registration includes 1-2 parents/guardians per family. If a parent.guardian is unable to attend\, a grandparent is welcome to attend in their place as a camper’s “grown up.”
URL:https://hiddenpinesranch.com/event/hpr-family-camp/
LOCATION:MN
END:VEVENT
END:VCALENDAR